BEGIN:VCALENDAR
VERSION:2.0
PRODID:-//SqWires Restaurant &amp; Market - ECPv6.15.20//NONSGML v1.0//EN
CALSCALE:GREGORIAN
METHOD:PUBLISH
X-ORIGINAL-URL:https://sqwires.com
X-WR-CALDESC:Events for SqWires Restaurant &amp; Market
REFRESH-INTERVAL;VALUE=DURATION:PT1H
X-Robots-Tag:noindex
X-PUBLISHED-TTL:PT1H
BEGIN:VTIMEZONE
TZID:America/Chicago
BEGIN:DAYLIGHT
TZOFFSETFROM:-0600
TZOFFSETTO:-0500
TZNAME:CDT
DTSTART:20250309T080000
END:DAYLIGHT
BEGIN:STANDARD
TZOFFSETFROM:-0500
TZOFFSETTO:-0600
TZNAME:CST
DTSTART:20251102T070000
END:STANDARD
BEGIN:DAYLIGHT
TZOFFSETFROM:-0600
TZOFFSETTO:-0500
TZNAME:CDT
DTSTART:20260308T080000
END:DAYLIGHT
BEGIN:STANDARD
TZOFFSETFROM:-0500
TZOFFSETTO:-0600
TZNAME:CST
DTSTART:20261101T070000
END:STANDARD
BEGIN:DAYLIGHT
TZOFFSETFROM:-0600
TZOFFSETTO:-0500
TZNAME:CDT
DTSTART:20270314T080000
END:DAYLIGHT
BEGIN:STANDARD
TZOFFSETFROM:-0500
TZOFFSETTO:-0600
TZNAME:CST
DTSTART:20271107T070000
END:STANDARD
END:VTIMEZONE
BEGIN:VEVENT
DTSTART;TZID=America/Chicago:20260306T163000
DTEND;TZID=America/Chicago:20260306T210000
DTSTAMP:20260421T052151
CREATED:20260205T012840Z
LAST-MODIFIED:20260205T012840Z
UID:25378-1772814600-1772830800@sqwires.com
SUMMARY:Fish Fry Fridays
DESCRIPTION:Beer Battered White Fish Or Gulf Popcorn Shrimp Sweet Braised Onions Whipped Potatoes Green Beans\, Creamy Slaw Dinner Roll \n$21 Large Plate $16 Small Plate \n4:30-9Pm Or Until We Run Out \nWalk-Ins\, Reservations Or Order On Line \nsqwires.com 314-865-3522 1415 S. 18th Street Historic Lafayette Square\, St. Louis\, MO \n 
URL:https://sqwires.com/event/fish-fry-fridays-2-2-2-2-2-2-2-2/
LOCATION:Sqwires
CATEGORIES:Homepage Featured Events
ATTACH;FMTTYPE=application/pdf:https://sqwires.com/wp-content/uploads/2026/02/FRIDAY-3.pdf
END:VEVENT
BEGIN:VEVENT
DTSTART;TZID=America/Chicago:20260313T163000
DTEND;TZID=America/Chicago:20260313T210000
DTSTAMP:20260421T052151
CREATED:20260205T012927Z
LAST-MODIFIED:20260205T012927Z
UID:25379-1773419400-1773435600@sqwires.com
SUMMARY:Fish Fry Fridays
DESCRIPTION:Beer Battered White Fish Or Gulf Popcorn Shrimp Sweet Braised Onions Whipped Potatoes Green Beans\, Creamy Slaw Dinner Roll \n$21 Large Plate $16 Small Plate \n4:30-9Pm Or Until We Run Out \nWalk-Ins\, Reservations Or Order On Line \nsqwires.com 314-865-3522 1415 S. 18th Street Historic Lafayette Square\, St. Louis\, MO \n 
URL:https://sqwires.com/event/fish-fry-fridays-2-2-2-2-2-2-2-2-2/
LOCATION:Sqwires
CATEGORIES:Homepage Featured Events
ATTACH;FMTTYPE=application/pdf:https://sqwires.com/wp-content/uploads/2026/02/FRIDAY-3.pdf
END:VEVENT
BEGIN:VEVENT
DTSTART;TZID=America/Chicago:20260320T163000
DTEND;TZID=America/Chicago:20260320T210000
DTSTAMP:20260421T052151
CREATED:20260205T013016Z
LAST-MODIFIED:20260205T013016Z
UID:25380-1774024200-1774040400@sqwires.com
SUMMARY:Fish Fry Fridays
DESCRIPTION:Beer Battered White Fish Or Gulf Popcorn Shrimp Sweet Braised Onions Whipped Potatoes Green Beans\, Creamy Slaw Dinner Roll \n$21 Large Plate $16 Small Plate \n4:30-9Pm Or Until We Run Out \nWalk-Ins\, Reservations Or Order On Line \nsqwires.com 314-865-3522 1415 S. 18th Street Historic Lafayette Square\, St. Louis\, MO \n 
URL:https://sqwires.com/event/fish-fry-fridays-2-2-2-2-2-2-2-2-2-2/
LOCATION:Sqwires
CATEGORIES:Homepage Featured Events
ATTACH;FMTTYPE=application/pdf:https://sqwires.com/wp-content/uploads/2026/02/FRIDAY-3.pdf
END:VEVENT
BEGIN:VEVENT
DTSTART;TZID=America/Chicago:20260327T163000
DTEND;TZID=America/Chicago:20260327T210000
DTSTAMP:20260421T052151
CREATED:20260205T013047Z
LAST-MODIFIED:20260205T013047Z
UID:25381-1774629000-1774645200@sqwires.com
SUMMARY:Fish Fry Fridays
DESCRIPTION:Beer Battered White Fish Or Gulf Popcorn Shrimp Sweet Braised Onions Whipped Potatoes Green Beans\, Creamy Slaw Dinner Roll \n$21 Large Plate $16 Small Plate \n4:30-9Pm Or Until We Run Out \nWalk-Ins\, Reservations Or Order On Line \nsqwires.com 314-865-3522 1415 S. 18th Street Historic Lafayette Square\, St. Louis\, MO \n 
URL:https://sqwires.com/event/fish-fry-fridays-2-2-2-2-2-2-2-2-2-2-2/
LOCATION:Sqwires
CATEGORIES:Homepage Featured Events
ATTACH;FMTTYPE=application/pdf:https://sqwires.com/wp-content/uploads/2026/02/FRIDAY-3.pdf
END:VEVENT
END:VCALENDAR