BEGIN:VCALENDAR
VERSION:2.0
PRODID:-//SqWires Restaurant &amp; Market - ECPv6.15.20//NONSGML v1.0//EN
CALSCALE:GREGORIAN
METHOD:PUBLISH
X-ORIGINAL-URL:https://sqwires.com
X-WR-CALDESC:Events for SqWires Restaurant &amp; Market
REFRESH-INTERVAL;VALUE=DURATION:PT1H
X-Robots-Tag:noindex
X-PUBLISHED-TTL:PT1H
BEGIN:VTIMEZONE
TZID:America/Chicago
BEGIN:DAYLIGHT
TZOFFSETFROM:-0600
TZOFFSETTO:-0500
TZNAME:CDT
DTSTART:20240310T080000
END:DAYLIGHT
BEGIN:STANDARD
TZOFFSETFROM:-0500
TZOFFSETTO:-0600
TZNAME:CST
DTSTART:20241103T070000
END:STANDARD
BEGIN:DAYLIGHT
TZOFFSETFROM:-0600
TZOFFSETTO:-0500
TZNAME:CDT
DTSTART:20250309T080000
END:DAYLIGHT
BEGIN:STANDARD
TZOFFSETFROM:-0500
TZOFFSETTO:-0600
TZNAME:CST
DTSTART:20251102T070000
END:STANDARD
BEGIN:DAYLIGHT
TZOFFSETFROM:-0600
TZOFFSETTO:-0500
TZNAME:CDT
DTSTART:20260308T080000
END:DAYLIGHT
BEGIN:STANDARD
TZOFFSETFROM:-0500
TZOFFSETTO:-0600
TZNAME:CST
DTSTART:20261101T070000
END:STANDARD
END:VTIMEZONE
BEGIN:VEVENT
DTSTART;TZID=America/Chicago:20250807T170000
DTEND;TZID=America/Chicago:20250807T210000
DTSTAMP:20260424T042452
CREATED:20250709T113232Z
LAST-MODIFIED:20250807T110812Z
UID:25147-1754586000-1754600400@sqwires.com
SUMMARY:Thursday BBQ!
DESCRIPTION:THURSDAY NITE BBQ August 7th \n*1 QT Fresh Watermelon Lemonade $9  Harvey Yoder\, Opdyke\, IL\, over ice with fresh mint Well worth it!!! \n*Tonight’s Cocktail: $14.00 \nVodka\, coconut rum\, muddled strawberries\, lemonade & club \n*BBQ ENTREES…creamy slaw & warm corn muffin  \n* Buttonwood Farms Grilled Half Chicken $22 (gf) \nHerb marinated\, with or without sauce (California\, MO) \n*1/3 Slab Ribs $21 (gf) \nWith or without house bbq sauce \n*BBQ Fish Kabobs (2)  $21 (gf) \nSalmon\, shrimp & tilapia\, house-made peach bbq sauce \n*Grilled Portobello Tacos (2)  $16 \nSoy ginger marinade\, pico\, lettuce\, avocado & cilantro lime crema \n*Loaded Dog $15 \nCollard greens\, cheddar cheese & red onion crispy straws \nExtra Sides $6 \n*Sliced Homegrown Tomatoes…balsamic\, basil (v+\, gf) \n*Hatch Mac & Cheese \n*Bang Bang Corn off the Cob…sweet chili sauce\, sriracha cilantro\, fresh lime (v\, gf) \n*Fried Green Tomatoes…cajun remoulade (v)
URL:https://sqwires.com/event/thursday-bbq-season-opener-2-2-2-2-2-2-2/
LOCATION:Sqwires
CATEGORIES:Homepage Featured Events
ATTACH;FMTTYPE=image/png:https://sqwires.com/wp-content/uploads/2025/07/Untitled-design-2.png
END:VEVENT
BEGIN:VEVENT
DTSTART;TZID=America/Chicago:20250807T173000
DTEND;TZID=America/Chicago:20250807T203000
DTSTAMP:20260424T042452
CREATED:20250807T105834Z
LAST-MODIFIED:20250807T105834Z
UID:25165-1754587800-1754598600@sqwires.com
SUMMARY:The Rotators
DESCRIPTION:The Rotators are an Americana trio comprised of long-time friends and well-known St. Louis musicians\, Bob Breidenbach\, Thayne Bradford\,(The Road Apples\, The Lonesome Pines\, The Orbits) and Mike Tiefenbrun (Spatz). Playing songs from Dylan\, Prine \, Lightfoot\, The Dead \,The Band and more.
URL:https://sqwires.com/event/the-rotators-2-2-2-2-2-2-2-2-2-2-2-2-2-2-2-2-2-2-2__trashed-2-3-2-2-2-2-2-2-2/
LOCATION:Sqwires
CATEGORIES:Homepage Featured Events
ATTACH;FMTTYPE=image/jpeg:https://sqwires.com/wp-content/uploads/2024/12/292870490_1665179727172972_8724928463956370113_n-1-e1735752226336.jpg
END:VEVENT
BEGIN:VEVENT
DTSTART;TZID=America/Chicago:20250808T190000
DTEND;TZID=America/Chicago:20250808T210000
DTSTAMP:20260424T042452
CREATED:20250807T112127Z
LAST-MODIFIED:20250807T112127Z
UID:25180-1754679600-1754686800@sqwires.com
SUMMARY:John Higgins & Thayne Bradford Live!
DESCRIPTION:John Higgins and Thayne Bradford. Longtime favorites and veterans of the St. Louis Americana acoustic music scene.  7 pm till 9 pm 
URL:https://sqwires.com/event/john-higgins-thayne-bradford-live-2-2-2-2-2-2-2/
LOCATION:Sqwires
CATEGORIES:Homepage Featured Events
ATTACH;FMTTYPE=image/jpeg:https://sqwires.com/wp-content/uploads/2024/12/332328482_1063509304409345_950079471286627651_n-e1734706388863.jpg
END:VEVENT
BEGIN:VEVENT
DTSTART;TZID=America/Chicago:20250812T170000
DTEND;TZID=America/Chicago:20250812T210000
DTSTAMP:20260424T042452
CREATED:20250807T111657Z
LAST-MODIFIED:20250807T111657Z
UID:25176-1755018000-1755032400@sqwires.com
SUMMARY:SqWires SqWare Plates
DESCRIPTION:$8 each\, savory & sweet. Changes weekly! \n(every Tuesday 5 pm till 9 pm)
URL:https://sqwires.com/event/sqwires-sqware-plates-3-2-2-2-2-2-2-2-2-2-2-2-2-2-2-2-2-2-2/
LOCATION:Sqwires
CATEGORIES:Homepage Featured Events
ATTACH;FMTTYPE=image/jpeg:https://sqwires.com/wp-content/uploads/2023/07/SqWare-Plates-scaled-e1746212226800.jpg
END:VEVENT
BEGIN:VEVENT
DTSTART;TZID=America/Chicago:20250813T110000
DTEND;TZID=America/Chicago:20250813T210000
DTSTAMP:20260424T042452
CREATED:20250709T113427Z
LAST-MODIFIED:20250807T111122Z
UID:25150-1755082800-1755118800@sqwires.com
SUMMARY:Wine Down Wednesday
DESCRIPTION:Half price wine bottles with entree purchase\, lunch and dinner in the restaurant and half price retail wines in the Market all day. 
URL:https://sqwires.com/event/wine-down-wednesday-3-2-2-2-2-2-3-2-2-2-2-2-2-2-2-2-2-2-2-2-2/
LOCATION:Sqwires
CATEGORIES:Homepage Featured Events
ATTACH;FMTTYPE=image/jpeg:https://sqwires.com/wp-content/uploads/2025/04/khtIQr_j.jpg
END:VEVENT
BEGIN:VEVENT
DTSTART;TZID=America/Chicago:20250814T170000
DTEND;TZID=America/Chicago:20250814T210000
DTSTAMP:20260424T042452
CREATED:20250807T110935Z
LAST-MODIFIED:20250807T110935Z
UID:25171-1755190800-1755205200@sqwires.com
SUMMARY:Thursday BBQ! 5 pm till 9 pm
DESCRIPTION:THURSDAY NITE BBQ \nEnjoy local grown produce\, fresh lemonades\, grilled menu items include\, chicken\, ribs\, seafood\, vegan and vegetarian items and much more!
URL:https://sqwires.com/event/thursday-bbq-season-opener-2-2-2-2-2-2-2-2/
LOCATION:Sqwires
CATEGORIES:Homepage Featured Events
END:VEVENT
BEGIN:VEVENT
DTSTART;TZID=America/Chicago:20250814T173000
DTEND;TZID=America/Chicago:20250814T203000
DTSTAMP:20260424T042452
CREATED:20250807T110146Z
LAST-MODIFIED:20250807T110146Z
UID:25166-1755192600-1755203400@sqwires.com
SUMMARY:The Rotators
DESCRIPTION:The Rotators are an Americana trio comprised of long-time friends and well-known St. Louis musicians\, Bob Breidenbach\, Thayne Bradford\,(The Road Apples\, The Lonesome Pines\, The Orbits) and Mike Tiefenbrun (Spatz). Playing songs from Dylan\, Prine \, Lightfoot\, The Dead \,The Band and more.
URL:https://sqwires.com/event/the-rotators-2-2-2-2-2-2-2-2-2-2-2-2-2-2-2-2-2-2-2__trashed-2-3-2-2-2-2-2-2-2-2/
LOCATION:Sqwires
CATEGORIES:Homepage Featured Events
END:VEVENT
BEGIN:VEVENT
DTSTART;TZID=America/Chicago:20250815T173000
DTEND;TZID=America/Chicago:20250815T200000
DTSTAMP:20260424T042452
CREATED:20250807T112353Z
LAST-MODIFIED:20250807T112353Z
UID:25182-1755279000-1755288000@sqwires.com
SUMMARY:Happy Hour Music! Monica Casey & Thayne Bradford
DESCRIPTION:Monica Casey & Thayne Bradford  5:30 till 8 pm  
URL:https://sqwires.com/event/happy-hour-monica-casey-2-2-3-3-2-2-2-2/
LOCATION:Sqwires
CATEGORIES:Homepage Featured Events
ATTACH;FMTTYPE=image/jpeg:https://sqwires.com/wp-content/uploads/2025/01/IMG_8714-e1735754001347.jpg
END:VEVENT
BEGIN:VEVENT
DTSTART;TZID=America/Chicago:20250819T170000
DTEND;TZID=America/Chicago:20250819T210000
DTSTAMP:20260424T042452
CREATED:20250807T111740Z
LAST-MODIFIED:20250819T211531Z
UID:25177-1755622800-1755637200@sqwires.com
SUMMARY:SqWires SqWare Plates
DESCRIPTION:$8.32 each\, savory & sweet. Changes weekly! \n(every Tuesday 5 pm till 9 pm)
URL:https://sqwires.com/event/sqwires-sqware-plates-3-2-2-2-2-2-2-2-2-2-2-2-2-2-2-2-2-2-2-2/
LOCATION:Sqwires
CATEGORIES:Homepage Featured Events
END:VEVENT
BEGIN:VEVENT
DTSTART;TZID=America/Chicago:20250820T110000
DTEND;TZID=America/Chicago:20250820T210000
DTSTAMP:20260424T042452
CREATED:20250807T111351Z
LAST-MODIFIED:20250807T111351Z
UID:25174-1755687600-1755723600@sqwires.com
SUMMARY:Wine Down Wednesday
DESCRIPTION:Half price wine bottles with entree purchase\, lunch and dinner in the restaurant and half price retail wines in the Market all day. 
URL:https://sqwires.com/event/wine-down-wednesday-3-2-2-2-2-2-3-2-2-2-2-2-2-2-2-2-2-2-2-2-2-2/
LOCATION:Sqwires
CATEGORIES:Homepage Featured Events
END:VEVENT
BEGIN:VEVENT
DTSTART;TZID=America/Chicago:20250821T170000
DTEND;TZID=America/Chicago:20250821T210000
DTSTAMP:20260424T042452
CREATED:20250807T111000Z
LAST-MODIFIED:20250807T111000Z
UID:25172-1755795600-1755810000@sqwires.com
SUMMARY:Thursday BBQ! 5 pm till 9 pm
DESCRIPTION:THURSDAY NITE BBQ \nEnjoy local grown produce\, fresh lemonades\, grilled menu items include\, chicken\, ribs\, seafood\, vegan and vegetarian items and much more!
URL:https://sqwires.com/event/thursday-bbq-season-opener-2-2-2-2-2-2-2-2-2/
LOCATION:Sqwires
CATEGORIES:Homepage Featured Events
END:VEVENT
BEGIN:VEVENT
DTSTART;TZID=America/Chicago:20250821T173000
DTEND;TZID=America/Chicago:20250821T203000
DTSTAMP:20260424T042452
CREATED:20250807T110216Z
LAST-MODIFIED:20250807T110216Z
UID:25167-1755797400-1755808200@sqwires.com
SUMMARY:The Rotators
DESCRIPTION:The Rotators are an Americana trio comprised of long-time friends and well-known St. Louis musicians\, Bob Breidenbach\, Thayne Bradford\,(The Road Apples\, The Lonesome Pines\, The Orbits) and Mike Tiefenbrun (Spatz). Playing songs from Dylan\, Prine \, Lightfoot\, The Dead \,The Band and more.
URL:https://sqwires.com/event/the-rotators-2-2-2-2-2-2-2-2-2-2-2-2-2-2-2-2-2-2-2__trashed-2-3-2-2-2-2-2-2-2-2-2/
LOCATION:Sqwires
CATEGORIES:Homepage Featured Events
END:VEVENT
BEGIN:VEVENT
DTSTART;TZID=America/Chicago:20250826T170000
DTEND;TZID=America/Chicago:20250826T210000
DTSTAMP:20260424T042452
CREATED:20250807T111812Z
LAST-MODIFIED:20250807T111812Z
UID:25178-1756227600-1756242000@sqwires.com
SUMMARY:SqWires SqWare Plates
DESCRIPTION:$8 each\, savory & sweet. Changes weekly! \n(every Tuesday 5 pm till 9 pm)
URL:https://sqwires.com/event/sqwires-sqware-plates-3-2-2-2-2-2-2-2-2-2-2-2-2-2-2-2-2-2-2-2-2/
LOCATION:Sqwires
CATEGORIES:Homepage Featured Events
END:VEVENT
BEGIN:VEVENT
DTSTART;TZID=America/Chicago:20250827T110000
DTEND;TZID=America/Chicago:20250827T210000
DTSTAMP:20260424T042452
CREATED:20250807T111420Z
LAST-MODIFIED:20250807T111420Z
UID:25175-1756292400-1756328400@sqwires.com
SUMMARY:Wine Down Wednesday
DESCRIPTION:Half price wine bottles with entree purchase\, lunch and dinner in the restaurant and half price retail wines in the Market all day. 
URL:https://sqwires.com/event/wine-down-wednesday-3-2-2-2-2-2-3-2-2-2-2-2-2-2-2-2-2-2-2-2-2-2-2/
LOCATION:Sqwires
CATEGORIES:Homepage Featured Events
END:VEVENT
BEGIN:VEVENT
DTSTART;TZID=America/Chicago:20250828T170000
DTEND;TZID=America/Chicago:20250828T210000
DTSTAMP:20260424T042452
CREATED:20250807T111029Z
LAST-MODIFIED:20250827T190439Z
UID:25173-1756400400-1756414800@sqwires.com
SUMMARY:Thursday BBQ! 5 pm till 9 pm
DESCRIPTION:THURSDAY NITE BBQ August 28th! \n*1 QT Fresh Watermelon Lemonade $9.36 \nover ice with fresh mint  Well worth it!!! \n*Tonight’s Cocktail: $14.56 \nBlackberry Jack Daniels\, fresh lemonade\, mint \n*BBQ ENTREES…creamy slaw & warm corn muffin \n* BBQ Rubbed Chicken Wings $18.72 (gf) \nWith or without house bbq sauce \n*1/3 Slab Ribs  $20.80 (gf) \nWith or without house bbq sauce \n*BBQ Pulled Pork Sandwich   $17.68  \nMelted pepper-jack cheese\, house-made bbq sauce\, creamy slaw \n& crispy onions \n\nGrilled Salmon $23.92  (GF)\n\nTopped with bbq sauce\, pineapple & jalapeño relish \n*Grilled Veggie Skewers (2)  $17.68 (V) \nRed onion\, red pepper\, yellow squash & cherry tomato \nBasil pesto aioli dipping sauce \n*Loaded Hot Dog  $15.60 \nChopped bacon\, cheddar cheese\, caramelized onions \n& spicy ketchup \nExtra Sides $6.24 \n\nHomegrown Cherry Tomatoes…balsamic\, cucumber\, basil        &  fresh mozzarella  (v\, gf)\n\n* Fried Green Tomatoes…cajun remoulade (V) \n* Greek Pasta Salad…oregano vinaigrette\, cucumber\, red onion\, \nFeta and olive  (V) \n* House Braised Collard Greens (V) \nTonight’s Dessert! Banana Pudding!  $11.00 \nVanilla wafers\, fresh sliced bananas\, whipped cream
URL:https://sqwires.com/event/thursday-bbq-season-opener-2-2-2-2-2-2-2-2-2-2-2/
LOCATION:Sqwires
CATEGORIES:Homepage Featured Events
END:VEVENT
BEGIN:VEVENT
DTSTART;TZID=America/Chicago:20250828T173000
DTEND;TZID=America/Chicago:20250828T203000
DTSTAMP:20260424T042452
CREATED:20250807T110338Z
LAST-MODIFIED:20250807T110338Z
UID:25168-1756402200-1756413000@sqwires.com
SUMMARY:The Rotators
DESCRIPTION:The Rotators are an Americana trio comprised of long-time friends and well-known St. Louis musicians\, Bob Breidenbach\, Thayne Bradford\,(The Road Apples\, The Lonesome Pines\, The Orbits) and Mike Tiefenbrun (Spatz). Playing songs from Dylan\, Prine \, Lightfoot\, The Dead \,The Band and more.
URL:https://sqwires.com/event/the-rotators-2-2-2-2-2-2-2-2-2-2-2-2-2-2-2-2-2-2-2__trashed-2-3-2-2-2-2-2-2-2-2-2-2/
LOCATION:Sqwires
CATEGORIES:Homepage Featured Events
END:VEVENT
BEGIN:VEVENT
DTSTART;TZID=America/Chicago:20250828T173000
DTEND;TZID=America/Chicago:20250828T203000
DTSTAMP:20260424T042452
CREATED:20250807T110408Z
LAST-MODIFIED:20250807T110408Z
UID:25169-1756402200-1756413000@sqwires.com
SUMMARY:The Rotators
DESCRIPTION:The Rotators are an Americana trio comprised of long-time friends and well-known St. Louis musicians\, Bob Breidenbach\, Thayne Bradford\,(The Road Apples\, The Lonesome Pines\, The Orbits) and Mike Tiefenbrun (Spatz). Playing songs from Dylan\, Prine \, Lightfoot\, The Dead \,The Band and more.
URL:https://sqwires.com/event/the-rotators-2-2-2-2-2-2-2-2-2-2-2-2-2-2-2-2-2-2-2__trashed-2-3-2-2-2-2-2-2-2-2-2-2-2/
LOCATION:Sqwires
CATEGORIES:Homepage Featured Events
ATTACH;FMTTYPE=image/jpeg:https://sqwires.com/wp-content/uploads/2024/12/292870490_1665179727172972_8724928463956370113_n-1-e1735752226336.jpg
END:VEVENT
END:VCALENDAR