BEGIN:VCALENDAR
VERSION:2.0
PRODID:-//SqWires Restaurant &amp; Market - ECPv6.15.20//NONSGML v1.0//EN
CALSCALE:GREGORIAN
METHOD:PUBLISH
X-WR-CALNAME:SqWires Restaurant &amp; Market
X-ORIGINAL-URL:https://sqwires.com
X-WR-CALDESC:Events for SqWires Restaurant &amp; Market
REFRESH-INTERVAL;VALUE=DURATION:PT1H
X-Robots-Tag:noindex
X-PUBLISHED-TTL:PT1H
BEGIN:VTIMEZONE
TZID:America/Chicago
BEGIN:DAYLIGHT
TZOFFSETFROM:-0600
TZOFFSETTO:-0500
TZNAME:CDT
DTSTART:20230312T080000
END:DAYLIGHT
BEGIN:STANDARD
TZOFFSETFROM:-0500
TZOFFSETTO:-0600
TZNAME:CST
DTSTART:20231105T070000
END:STANDARD
BEGIN:DAYLIGHT
TZOFFSETFROM:-0600
TZOFFSETTO:-0500
TZNAME:CDT
DTSTART:20240310T080000
END:DAYLIGHT
BEGIN:STANDARD
TZOFFSETFROM:-0500
TZOFFSETTO:-0600
TZNAME:CST
DTSTART:20241103T070000
END:STANDARD
BEGIN:DAYLIGHT
TZOFFSETFROM:-0600
TZOFFSETTO:-0500
TZNAME:CDT
DTSTART:20250309T080000
END:DAYLIGHT
BEGIN:STANDARD
TZOFFSETFROM:-0500
TZOFFSETTO:-0600
TZNAME:CST
DTSTART:20251102T070000
END:STANDARD
END:VTIMEZONE
BEGIN:VEVENT
DTSTART;TZID=America/Chicago:20241208T100000
DTEND;TZID=America/Chicago:20241208T130000
DTSTAMP:20260419T083711
CREATED:20241107T194343Z
LAST-MODIFIED:20241120T210158Z
UID:24798-1733652000-1733662800@sqwires.com
SUMMARY:Breakfast With Santa - SOLD OUT!
DESCRIPTION:Ho ho ho! Pajama Breakfast with Santa is coming to Sqwires! \nGet ready for a jolly morning filled with festive fun for the whole family. \nWhat to expect: \n\nDelicious breakfast buffet: Indulge in fluffy pancakes\, a breakfast spread\, and refreshing soft drinks.\nMerriment & cheer: Sing along to festive carols and create holiday crafts with your little ones.\nSnap a pic with Santa! Don’t forget your camera to capture a magical moment with the jolly man himself.\nFamily PJ contest: Dress up in your most creative PJs! The most festive family wins a prize (announced at noon).\nCash/credit bar available: Enjoy mimosas\, bloody marys\, and more for the adults (while the kids are busy having fun).\n\nDetails: SOLD OUT!  \n\nDate: Sunday\, December 8th\nTime: 10:00 AM – 1:00 PM\nLocation: Sqwires (Location address)\nTickets: $32/person\, $18/kids under 12 (plus tax & service charge)\nRefunds: Only with 48-hour notice\n\nDon’t miss out on this merry memory-making event! Grab your tickets today! \n#PajamaBreakfastwithSanta #Sqwires #HolidayFun #FamilyEvent
URL:https://sqwires.com/event/breakfast-santa/
LOCATION:Sqwires
CATEGORIES:Homepage Featured Events
ATTACH;FMTTYPE=image/png:https://sqwires.com/wp-content/uploads/2024/11/BBQ-Facebook-Cover-Event.png
END:VEVENT
BEGIN:VEVENT
DTSTART;TZID=America/Chicago:20241231T110000
DTEND;TZID=America/Chicago:20241231T235900
DTSTAMP:20260419T083711
CREATED:20241220T133252Z
LAST-MODIFIED:20241222T200114Z
UID:24832-1735642800-1735689540@sqwires.com
SUMMARY:New Years Eve Hours
DESCRIPTION:Open for lunch and dinner!  \n11 am till 2 pm for lunch \n5 pm till 11 pm for dinner.. full dinner menu as well as off the menu specials\, Noah Clark on the piano 7 pm till 10 pm\, then ring in the New Year with a champagne toast and favors!  \n  \nHappy New Year!
URL:https://sqwires.com/event/new-years-eve/
LOCATION:Sqwires
CATEGORIES:Homepage Featured Events
ATTACH;FMTTYPE=image/png:https://sqwires.com/wp-content/uploads/2024/12/Green-and-Gold-Elegant-Happy-New-Year-Instagram-Post-e1734703128853.png
END:VEVENT
BEGIN:VEVENT
DTSTART;TZID=America/Chicago:20241231T190000
DTEND;TZID=America/Chicago:20241231T220000
DTSTAMP:20260419T083711
CREATED:20241222T201150Z
LAST-MODIFIED:20241222T201553Z
UID:24847-1735671600-1735682400@sqwires.com
SUMMARY:NYE with Noah Clark
DESCRIPTION:Enjoy pianist Noah Clark\, the talented John Burroughs High School student performing 7 pm till 10 pm for New Years Eve in the restaurant.  Make your dinner reservations!  \n314-865-3522 \nhttps://www.exploretock.com/sqwires \n 
URL:https://sqwires.com/event/nye-with-noah-clark/
LOCATION:Sqwires
CATEGORIES:Homepage Featured Events
ATTACH;FMTTYPE=image/heic:https://sqwires.com/wp-content/uploads/2024/12/1E7CE998-D9D0-4947-ACDD-91853CEBB302-scaled.jpg
END:VEVENT
END:VCALENDAR