BEGIN:VCALENDAR
VERSION:2.0
PRODID:-//SqWires Restaurant &amp; Market - ECPv6.15.20//NONSGML v1.0//EN
CALSCALE:GREGORIAN
METHOD:PUBLISH
X-WR-CALNAME:SqWires Restaurant &amp; Market
X-ORIGINAL-URL:https://sqwires.com
X-WR-CALDESC:Events for SqWires Restaurant &amp; Market
REFRESH-INTERVAL;VALUE=DURATION:PT1H
X-Robots-Tag:noindex
X-PUBLISHED-TTL:PT1H
BEGIN:VTIMEZONE
TZID:America/Chicago
BEGIN:DAYLIGHT
TZOFFSETFROM:-0600
TZOFFSETTO:-0500
TZNAME:CDT
DTSTART:20230312T080000
END:DAYLIGHT
BEGIN:STANDARD
TZOFFSETFROM:-0500
TZOFFSETTO:-0600
TZNAME:CST
DTSTART:20231105T070000
END:STANDARD
BEGIN:DAYLIGHT
TZOFFSETFROM:-0600
TZOFFSETTO:-0500
TZNAME:CDT
DTSTART:20240310T080000
END:DAYLIGHT
BEGIN:STANDARD
TZOFFSETFROM:-0500
TZOFFSETTO:-0600
TZNAME:CST
DTSTART:20241103T070000
END:STANDARD
BEGIN:DAYLIGHT
TZOFFSETFROM:-0600
TZOFFSETTO:-0500
TZNAME:CDT
DTSTART:20250309T080000
END:DAYLIGHT
BEGIN:STANDARD
TZOFFSETFROM:-0500
TZOFFSETTO:-0600
TZNAME:CST
DTSTART:20251102T070000
END:STANDARD
END:VTIMEZONE
BEGIN:VEVENT
DTSTART;TZID=America/Chicago:20241121T170000
DTEND;TZID=America/Chicago:20241121T200000
DTSTAMP:20260419T102007
CREATED:20241107T195735Z
LAST-MODIFIED:20241108T165039Z
UID:24801-1732208400-1732219200@sqwires.com
SUMMARY:Monica Casey Pop-Up Shop
DESCRIPTION:Don’t miss this special opportunity to shop Monica Casey’s stunning collection of art towels and cards. Join us at SqWires Market on Thursday\, November 21st from 5-8 PM. \nWhile you’re there\, enjoy the sounds of the Rotators! \nFollow Monica: \n\nInstagram: @art_towels_and_more\nFacebook: Monica Casey Art Cards-Towels-Music
URL:https://sqwires.com/event/test-event-2/
LOCATION:Sqwires
CATEGORIES:Homepage Featured Events
ATTACH;FMTTYPE=image/jpeg:https://sqwires.com/wp-content/uploads/2024/11/463640705_1026616149475207_3553463997830400346_n.jpg
END:VEVENT
BEGIN:VEVENT
DTSTART;TZID=America/Chicago:20241130T090000
DTEND;TZID=America/Chicago:20241130T210000
DTSTAMP:20260419T102007
CREATED:20241103T195754Z
LAST-MODIFIED:20241108T165033Z
UID:24802-1732957200-1733000400@sqwires.com
SUMMARY:Small Business Saturday: Your Holiday Shopping Headquarters!
DESCRIPTION:Ready to deck the halls? Start your holiday shopping spree with our amazing gift card promotion. \nSpend\, Save\, and Share the Joy! \n\n$100 Gift Card: Get a $20 bonus card.\n$200 Gift Card: Get a $50 bonus card.\n$300 Gift Card: Get a $100 bonus card.\n\nOffer valid November 30th through January 1st. \nPurchase a gift card.
URL:https://sqwires.com/event/small-biz-saturday/
LOCATION:Sqwires
CATEGORIES:Homepage Featured Events
ATTACH;FMTTYPE=image/jpeg:https://sqwires.com/wp-content/uploads/2024/11/Sqwires-Restaurant-900x600-1.jpg
END:VEVENT
END:VCALENDAR